BEGIN:VCALENDAR
VERSION:2.0
PRODID:icalendar-ruby
CALSCALE:GREGORIAN
METHOD:PUBLISH
BEGIN:VEVENT
DTSTAMP:20260421T150115Z
UID:c7506539-34f7-4cbd-be9c-aa22e613ce6e
DTSTART;VALUE=DATE:20260512
DTEND;VALUE=DATE:20260513
DESCRIPTION:Organisers : International Institute of Refrigeration
SUMMARY:Data Centers at a Crossroads: Energy\, Cooling\, and Policy Challen
 ges
URL;VALUE=URI:https://iifiir.org/en/events/data-centers-at-a-crossroads-ene
 rgy-cooling-and-policy-challenges
END:VEVENT
END:VCALENDAR
